BEGIN:VCALENDAR
VERSION:2.0
PRODID:-//eventon.com NONSGML v1.0//EN
CALSCALE:GREGORIAN
METHOD:PUBLISH
BEGIN:VEVENT
UID:69ea656b8b2a1
DTSTAMP:20260423T123107
DTSTART:20220525T090000Z
DTEND:20220525T120000Z
TZID:America/Denver
LOCATION:
SUMMARY:Planning Your Business Strategy Fundamentals
DESCRIPTION:Rapidly shifting attitudes\,  loyalties\,  and expectations need to be met with a solid business plan. In this interactive session\,  attendees will identify their service delivery issues and opportunities. Armed with education from the previous sessions in this series\,  the Agent can design strategic action steps to take their business to[..]\nhttps://realestateeducationidaho.com/events/planning-your-business-strategy-fundamentals/
URL:https://realestateeducationidaho.com/events/planning-your-business-strategy-fundamentals/
END:VEVENT
END:VCALENDAR