BEGIN:VCALENDAR
VERSION:2.0
PRODID:-//eventon.com NONSGML v1.0//EN
CALSCALE:GREGORIAN
METHOD:PUBLISH
BEGIN:VEVENT
UID:69ea651477954
DTSTAMP:20260423T122940
DTSTART:20220525T130000Z
DTEND:20220525T160000Z
TZID:America/Denver
LOCATION:
SUMMARY:Realities of Brokerage Management
DESCRIPTION:Rapidly shifting attitudes\,  loyalties\,  and expectations need to be met with a proactive attitude. In this highly interactive session\,  attendees will have the opportunity to evaluate different personnel issues\,  establish an effective problem-solving process and ultimate create the platform to design a strategic action plan that will take their brokerage[..]\nhttps://realestateeducationidaho.com/events/realities-of-brokerage-management/
URL:https://realestateeducationidaho.com/events/realities-of-brokerage-management/
END:VEVENT
END:VCALENDAR