BEGIN:VCALENDAR
VERSION:2.0
PRODID:-//eventon.com NONSGML v1.0//EN
CALSCALE:GREGORIAN
METHOD:PUBLISH
BEGIN:VEVENT
UID:69ea6368bbb54
DTSTAMP:20260423T122232
DTSTART:20220706T090000Z
DTEND:20220706T150000Z
TZID:America/Denver
LOCATION:
SUMMARY:Developing Professional Practices & Ethical Conduct
DESCRIPTION:A highly interactive ethics and professional conduct program will help new licensees gain competency in handling real estate transactions. Participants will be actively involved in viable case studies\,  as well as group discussion regarding ethics issues.\nhttps://realestateeducationidaho.com/events/developing-professional-practices-ethical-conduct/
URL:https://realestateeducationidaho.com/events/developing-professional-practices-ethical-conduct/
END:VEVENT
END:VCALENDAR