BEGIN:VCALENDAR
VERSION:2.0
PRODID:-//eventon.com NONSGML v1.0//EN
CALSCALE:GREGORIAN
METHOD:PUBLISH
BEGIN:VEVENT
UID:69ea6514e7f53
DTSTAMP:20260423T122940
DTSTART:20220523T090000Z
DTEND:20220523T120000Z
TZID:America/Denver
LOCATION:
SUMMARY:Let's Get Real Risk Reduction by Minimizing Agent Mistakes
DESCRIPTION:Even the most qualified competent of real estate professionals can face daunting unfamiliar ground when it comes to contract legal terminology. That also includes practical situational analysis of potential conflicts on terms and conditions. Identify the fundamental elements of contracts and common missteps that Agents make during a transaction. Knowledge[..]\nhttps://realestateeducationidaho.com/events/lets-get-real-risk-reduction-by-minimizing-agent-mistakes-2/
URL:https://realestateeducationidaho.com/events/lets-get-real-risk-reduction-by-minimizing-agent-mistakes-2/
END:VEVENT
END:VCALENDAR