BEGIN:VCALENDAR
VERSION:2.0
PRODID:-//eventon.com NONSGML v1.0//EN
CALSCALE:GREGORIAN
METHOD:PUBLISH
BEGIN:VEVENT
UID:69ea638d71b6c
DTSTAMP:20260423T122309
DTSTART:20220627T090000Z
DTEND:20220627T120000Z
TZID:America/Denver
LOCATION:
SUMMARY:Let's Get Real Risk Reduction by Minimizing Agent Mistakes
DESCRIPTION:Even the most qualified competent of real estate professionals can face daunting unfamiliar ground when it comes to contract legal terminology. That also includes practical situational analysis of potential conflicts on terms and conditions. Identify the fundamental elements of contracts and common missteps that Agents make during a transaction. Knowledge[..]\nhttps://realestateeducationidaho.com/events/lets-get-real-risk-reduction-by-minimizing-agent-mistakes-3/
URL:https://realestateeducationidaho.com/events/lets-get-real-risk-reduction-by-minimizing-agent-mistakes-3/
END:VEVENT
END:VCALENDAR