BEGIN:VCALENDAR
VERSION:2.0
PRODID:-//eventon.com NONSGML v1.0//EN
CALSCALE:GREGORIAN
METHOD:PUBLISH
BEGIN:VEVENT
UID:69ea75572c08b
DTSTAMP:20260423T133903
DTSTART:20220902T090000Z
DTEND:20220902T120000Z
TZID:America/Denver
LOCATION:
SUMMARY:The No Drama Transaction
DESCRIPTION:Sometimes it seems like an unattainable dream &#8211; the path to experiencing a successful\,  no drama property closing. Designing and following consistently a systematic process in working with Buyers can make the dream a reality. It begins with working knowledge of the inventory\,  mastering the minor details of coordinating and[..]\nhttps://realestateeducationidaho.com/events/the-no-drama-transaction-3/
URL:https://realestateeducationidaho.com/events/the-no-drama-transaction-3/
END:VEVENT
END:VCALENDAR