BEGIN:VCALENDAR
VERSION:2.0
PRODID:-//eventon.com NONSGML v1.0//EN
CALSCALE:GREGORIAN
METHOD:PUBLISH
BEGIN:VEVENT
UID:69ea65710e28b
DTSTAMP:20260423T123113
DTSTART:20221025T090000Z
DTEND:20221025T150000Z
TZID:America/Denver
LOCATION:
SUMMARY:Developing Professional Practices & Reputable Conduct
DESCRIPTION:You will be actively involved in viable case studies\,  as well as group discussion regarding professional working relationships. Discussion about Fair Housing\,  Anti Trust\,  Professional dress and much more. This class is 6 hours\,  and it will fly by!\nhttps://realestateeducationidaho.com/events/developing-professional-practices-reputable-conduct/
URL:https://realestateeducationidaho.com/events/developing-professional-practices-reputable-conduct/
END:VEVENT
END:VCALENDAR