BEGIN:VCALENDAR
VERSION:2.0
PRODID:-//eventon.com NONSGML v1.0//EN
CALSCALE:GREGORIAN
METHOD:PUBLISH
BEGIN:VEVENT
UID:69ea7555d5432
DTSTAMP:20260423T133901
DTSTART:20221202T090000Z
DTEND:20221202T120000Z
TZID:America/Denver
LOCATION:
SUMMARY:Planning Your Business Strategy Fundamentals
DESCRIPTION:Are you ready for 2023? Do you have a plan for where you want your business to go? Let&#8217;s have a discussion on what to think about\,  what strategies to use to get you and your business soaring in 2023!\nhttps://realestateeducationidaho.com/events/planning-your-business-strategy-fundamentals-3/
URL:https://realestateeducationidaho.com/events/planning-your-business-strategy-fundamentals-3/
END:VEVENT
END:VCALENDAR