BEGIN:VCALENDAR
VERSION:2.0
PRODID:-//eventon.com NONSGML v1.0//EN
CALSCALE:GREGORIAN
METHOD:PUBLISH
BEGIN:VEVENT
UID:69ea755a782d0
DTSTAMP:20260423T133906
DTSTART:20220726T090000Z
DTEND:20220726T120000Z
TZID:America/Denver
LOCATION:
SUMMARY:Real Estate in Today's Market
DESCRIPTION:The constantly changing environment for real estate sales directly impacts the way Agents set up and manage their business. Often decisions are made spontaneously without consideration for the impact on the consumer and without a clear understanding that these decisions ultimately shape the type of career and operating practices that[..]\nhttps://realestateeducationidaho.com/events/real-estate-in-todays-market-8/
URL:https://realestateeducationidaho.com/events/real-estate-in-todays-market-8/
END:VEVENT
END:VCALENDAR