BEGIN:VCALENDAR
VERSION:2.0
PRODID:-//eventon.com NONSGML v1.0//EN
CALSCALE:GREGORIAN
METHOD:PUBLISH
BEGIN:VEVENT
UID:69ea755145758
DTSTAMP:20260423T133857
DTSTART:20220816T090000Z
DTEND:20220816T120000Z
TZID:America/Denver
LOCATION:
SUMMARY:The Seller Centric Experience: Steps for a Comprehensive Listing Process
DESCRIPTION:Sellers want their real estate Licensee to be professional and trustworthy and to keep the Seller&#8217;s interests at the center of any decision making during the transaction. Learn how to design an effective Seller Listing process that includes focused interviewing\,  transaction management\,  property showing that reflects today&#8217;s marketplace requirements and[..]\nhttps://realestateeducationidaho.com/events/the-seller-centric-experience-steps-for-a-comprehensive-listing-process-3/
URL:https://realestateeducationidaho.com/events/the-seller-centric-experience-steps-for-a-comprehensive-listing-process-3/
END:VEVENT
END:VCALENDAR