BEGIN:VCALENDAR
VERSION:2.0
PRODID:-//eventon.com NONSGML v1.0//EN
CALSCALE:GREGORIAN
METHOD:PUBLISH
BEGIN:VEVENT
UID:69ea7556e68c7
DTSTAMP:20260423T133902
DTSTART:20230130T115800Z
DTEND:20230217T115800Z
TZID:America/Denver
LOCATION:
SUMMARY:Pre License for an Idaho Real Estate License
DESCRIPTION:\nhttps://realestateeducationidaho.com/events/pre-license-for-an-idaho-real-estate-license/
URL:https://realestateeducationidaho.com/events/pre-license-for-an-idaho-real-estate-license/
END:VEVENT
END:VCALENDAR