BEGIN:VCALENDAR
VERSION:2.0
PRODID:-//eventon.com NONSGML v1.0//EN
CALSCALE:GREGORIAN
METHOD:PUBLISH
BEGIN:VEVENT
UID:69ea656b8b87b
DTSTAMP:20260423T123107
DTSTART:20230109T090000Z
DTEND:20230109T160000Z
TZID:America/Denver
LOCATION:
SUMMARY:Developing professional practices & reputable conduct
DESCRIPTION:Mevlana Celalettin Rumi\,  known as Rumi in Western culture\,  is a Muslim poet\,  scholar and theologian who lived in the 13th century.\nhttps://realestateeducationidaho.com/events/developing-professional-practices-reputable-conduct-2/
URL:https://realestateeducationidaho.com/events/developing-professional-practices-reputable-conduct-2/
END:VEVENT
END:VCALENDAR