BEGIN:VCALENDAR
VERSION:2.0
PRODID:-//eventon.com NONSGML v1.0//EN
CALSCALE:GREGORIAN
METHOD:PUBLISH
BEGIN:VEVENT
UID:69ea75527ce19
DTSTAMP:20260423T133858
DTSTART:20230124T090000Z
DTEND:20230124T120000Z
TZID:America/Denver
LOCATION:
SUMMARY:Planning your business strategy fundamentals
DESCRIPTION:\nhttps://realestateeducationidaho.com/events/planning-your-business-strategy-fundamentals-5/
URL:https://realestateeducationidaho.com/events/planning-your-business-strategy-fundamentals-5/
END:VEVENT
END:VCALENDAR