BEGIN:VCALENDAR
VERSION:2.0
PRODID:-//eventon.com NONSGML v1.0//EN
CALSCALE:GREGORIAN
METHOD:PUBLISH
BEGIN:VEVENT
UID:69ea75544d84a
DTSTAMP:20260423T133900
DTSTART:20230208T090000Z
DTEND:20230208T120000Z
TZID:America/Denver
LOCATION:
SUMMARY:Real Estate in today's Market
DESCRIPTION:\nhttps://realestateeducationidaho.com/events/real-estate-in-todays-market-14/
URL:https://realestateeducationidaho.com/events/real-estate-in-todays-market-14/
END:VEVENT
END:VCALENDAR