BEGIN:VCALENDAR
VERSION:2.0
PRODID:-//eventon.com NONSGML v1.0//EN
CALSCALE:GREGORIAN
METHOD:PUBLISH
BEGIN:VEVENT
UID:69ea6368763e5
DTSTAMP:20260423T122232
DTSTART:20230228T130000Z
DTEND:20230228T160000Z
TZID:America/Denver
LOCATION:
SUMMARY:Let's Get Real Risk Reduction by Minimizing Agent Mistakes
DESCRIPTION:\nhttps://realestateeducationidaho.com/events/lets-get-real-risk-reduction-by-minimizing-agent-mistakes-11/
URL:https://realestateeducationidaho.com/events/lets-get-real-risk-reduction-by-minimizing-agent-mistakes-11/
END:VEVENT
END:VCALENDAR