BEGIN:VCALENDAR
VERSION:2.0
PRODID:-//eventon.com NONSGML v1.0//EN
CALSCALE:GREGORIAN
METHOD:PUBLISH
BEGIN:VEVENT
UID:69ea4d2510886
DTSTAMP:20260423T104733
DTSTART:20230518T100000Z
DTEND:20230518T130000Z
TZID:America/Denver
LOCATION:
SUMMARY:A Connection Culture Creating Trust By Living Your Value Proposition
DESCRIPTION:\nhttps://realestateeducationidaho.com/events/a-connection-culture-creating-trust-by-living-your-value-proposition-5/
URL:https://realestateeducationidaho.com/events/a-connection-culture-creating-trust-by-living-your-value-proposition-5/
END:VEVENT
END:VCALENDAR