BEGIN:VCALENDAR
VERSION:2.0
PRODID:-//eventon.com NONSGML v1.0//EN
CALSCALE:GREGORIAN
METHOD:PUBLISH
BEGIN:VEVENT
UID:69ea6138ed1a3
DTSTAMP:20260423T121312
DTSTART:20230313T130000Z
DTEND:20230313T163000Z
TZID:America/Denver
LOCATION:
SUMMARY:Commission Core 2022 Silvercreek Realty Group Sponsored Via Zoom
DESCRIPTION:\nhttps://realestateeducationidaho.com/events/commission-core-2022-5/
URL:https://realestateeducationidaho.com/events/commission-core-2022-5/
END:VEVENT
END:VCALENDAR