BEGIN:VCALENDAR
VERSION:2.0
PRODID:-//eventon.com NONSGML v1.0//EN
CALSCALE:GREGORIAN
METHOD:PUBLISH
BEGIN:VEVENT
UID:69ea651f5d7fb
DTSTAMP:20260423T122951
DTSTART:20230306T090000Z
DTEND:20230306T120000Z
TZID:America/Denver
LOCATION:
SUMMARY:Connection Culture Creating Trust by Living your Value Proposition
DESCRIPTION:\nhttps://realestateeducationidaho.com/events/connection-culture-creating-trust-by-living-your-value-proposition/
URL:https://realestateeducationidaho.com/events/connection-culture-creating-trust-by-living-your-value-proposition/
END:VEVENT
END:VCALENDAR