BEGIN:VCALENDAR
VERSION:2.0
PRODID:-//eventon.com NONSGML v1.0//EN
CALSCALE:GREGORIAN
METHOD:PUBLISH
BEGIN:VEVENT
UID:69ea7556b7465
DTSTAMP:20260423T133902
DTSTART:20230327T090000Z
DTEND:20230327T120000Z
TZID:America/Denver
LOCATION:
SUMMARY:The No Drama Transaction
DESCRIPTION:\nhttps://realestateeducationidaho.com/events/the-no-drama-transaction-8/
URL:https://realestateeducationidaho.com/events/the-no-drama-transaction-8/
END:VEVENT
END:VCALENDAR