BEGIN:VCALENDAR
VERSION:2.0
PRODID:-//eventon.com NONSGML v1.0//EN
CALSCALE:GREGORIAN
METHOD:PUBLISH
BEGIN:VEVENT
UID:69ea6340268cd
DTSTAMP:20260423T122152
DTSTART:20230503T123000Z
DTEND:20230503T163000Z
TZID:America/Denver
LOCATION:
SUMMARY:Commission Core 2023
DESCRIPTION:\nhttps://realestateeducationidaho.com/events/commission-core-2023/
URL:https://realestateeducationidaho.com/events/commission-core-2023/
END:VEVENT
END:VCALENDAR