BEGIN:VCALENDAR
VERSION:2.0
PRODID:-//eventon.com NONSGML v1.0//EN
CALSCALE:GREGORIAN
METHOD:PUBLISH
BEGIN:VEVENT
UID:69ea6340f21d0
DTSTAMP:20260423T122152
DTSTART:20230719T090000Z
DTEND:20230719T120000Z
TZID:America/Denver
LOCATION:
SUMMARY:Let's Get Real Risk Reduction by Minimizing Agent Mistakes
DESCRIPTION:\nhttps://realestateeducationidaho.com/events/lets-get-real-risk-reduction-by-minimizing-agent-mistakes-14/
URL:https://realestateeducationidaho.com/events/lets-get-real-risk-reduction-by-minimizing-agent-mistakes-14/
END:VEVENT
END:VCALENDAR