BEGIN:VCALENDAR
VERSION:2.0
PRODID:-//eventon.com NONSGML v1.0//EN
CALSCALE:GREGORIAN
METHOD:PUBLISH
BEGIN:VEVENT
UID:69ea6570e378d
DTSTAMP:20260423T123112
DTSTART:20230719T130000Z
DTEND:20230719T170000Z
TZID:America/Denver
LOCATION:
SUMMARY:Commission Core 2023
DESCRIPTION:Instructor Elizabeth Hume Garden Valley Idaho\nhttps://realestateeducationidaho.com/events/commission-core-2023-2/
URL:https://realestateeducationidaho.com/events/commission-core-2023-2/
END:VEVENT
END:VCALENDAR