BEGIN:VCALENDAR
VERSION:2.0
PRODID:-//eventon.com NONSGML v1.0//EN
CALSCALE:GREGORIAN
METHOD:PUBLISH
BEGIN:VEVENT
UID:69ea75517ecb5
DTSTAMP:20260423T133857
DTSTART:20230727T130000Z
DTEND:20230727T170000Z
TZID:America/Denver
LOCATION:
SUMMARY:Zoom!  Commission Core 2023
DESCRIPTION:C2023 Taught by Elizabeth Hume\nhttps://realestateeducationidaho.com/events/zoom-commission-core-2023/
URL:https://realestateeducationidaho.com/events/zoom-commission-core-2023/
END:VEVENT
END:VCALENDAR