BEGIN:VCALENDAR
VERSION:2.0
PRODID:-//eventon.com NONSGML v1.0//EN
CALSCALE:GREGORIAN
METHOD:PUBLISH
BEGIN:VEVENT
UID:69ea69f5dfa79
DTSTAMP:20260423T125029
DTSTART:20230828T090000Z
DTEND:20230828T130000Z
TZID:America/Denver
LOCATION:
SUMMARY:Zoom! Commission Core 2023
DESCRIPTION:\nhttps://realestateeducationidaho.com/events/zoom-commission-core-2023-3/
URL:https://realestateeducationidaho.com/events/zoom-commission-core-2023-3/
END:VEVENT
END:VCALENDAR