BEGIN:VCALENDAR
VERSION:2.0
PRODID:-//eventon.com NONSGML v1.0//EN
CALSCALE:GREGORIAN
METHOD:PUBLISH
BEGIN:VEVENT
UID:69ea75520551e
DTSTAMP:20260423T133858
DTSTART:20230831T090000Z
DTEND:20230831T120000Z
TZID:America/Denver
LOCATION:
SUMMARY:ZOOM!  Real Estate in Today's Market (E 1522)
DESCRIPTION:\nhttps://realestateeducationidaho.com/events/zoom-real-estate-in-todays-market-e-1522/
URL:https://realestateeducationidaho.com/events/zoom-real-estate-in-todays-market-e-1522/
END:VEVENT
END:VCALENDAR