BEGIN:VCALENDAR
VERSION:2.0
PRODID:-//eventon.com NONSGML v1.0//EN
CALSCALE:GREGORIAN
METHOD:PUBLISH
BEGIN:VEVENT
UID:69ea755a4bb69
DTSTAMP:20260423T133906
DTSTART:20230831T130000Z
DTEND:20230831T160000Z
TZID:America/Denver
LOCATION:
SUMMARY:ZOOM! Planning Your Business Strategy Fundamentals | E1521 | 3CE
DESCRIPTION:\nhttps://realestateeducationidaho.com/events/zoom-planning-your-business-strategy-fundamentals-e1521-3ce/
URL:https://realestateeducationidaho.com/events/zoom-planning-your-business-strategy-fundamentals-e1521-3ce/
END:VEVENT
END:VCALENDAR