BEGIN:VCALENDAR
VERSION:2.0
PRODID:-//eventon.com NONSGML v1.0//EN
CALSCALE:GREGORIAN
METHOD:PUBLISH
BEGIN:VEVENT
UID:69ea68c5ac933
DTSTAMP:20260423T124525
DTSTART:20230926T120000Z
DTEND:20230926T160000Z
TZID:America/Denver
LOCATION:
SUMMARY:Zoom! Commission Core 2023
DESCRIPTION:\nhttps://realestateeducationidaho.com/events/zoom-commission-core-2023-5/
URL:https://realestateeducationidaho.com/events/zoom-commission-core-2023-5/
END:VEVENT
END:VCALENDAR