BEGIN:VCALENDAR
VERSION:2.0
PRODID:-//eventon.com NONSGML v1.0//EN
CALSCALE:GREGORIAN
METHOD:PUBLISH
BEGIN:VEVENT
UID:69ea7559b3dd3
DTSTAMP:20260423T133905
DTSTART:20230926T083000Z
DTEND:20230926T113000Z
TZID:America/Denver
LOCATION:
SUMMARY:ZOOM! Planning Your Business Strategy Fundamentals | E1521R | 3CE
DESCRIPTION:\nhttps://realestateeducationidaho.com/events/zoom-planning-your-business-strategy-fundamentals-e1521r-3ce/
URL:https://realestateeducationidaho.com/events/zoom-planning-your-business-strategy-fundamentals-e1521r-3ce/
END:VEVENT
END:VCALENDAR