BEGIN:VCALENDAR
VERSION:2.0
PRODID:-//eventon.com NONSGML v1.0//EN
CALSCALE:GREGORIAN
METHOD:PUBLISH
BEGIN:VEVENT
UID:69ea733a5b646
DTSTAMP:20260423T133002
DTSTART:20230929T080000Z
DTEND:20230929T120000Z
TZID:America/Denver
LOCATION:
SUMMARY:Zoom! Commission Core 2023
DESCRIPTION:\nhttps://realestateeducationidaho.com/events/zoom-commission-core-2023-7/
URL:https://realestateeducationidaho.com/events/zoom-commission-core-2023-7/
END:VEVENT
END:VCALENDAR