BEGIN:VCALENDAR
VERSION:2.0
PRODID:-//eventon.com NONSGML v1.0//EN
CALSCALE:GREGORIAN
METHOD:PUBLISH
BEGIN:VEVENT
UID:69ea6eade618b
DTSTAMP:20260423T131037
DTSTART:20231129T090000Z
DTEND:20231129T123000Z
TZID:America/Denver
LOCATION:
SUMMARY:Zoom! Commission Core 2022
DESCRIPTION:Zoom Link to be sent the night before.\nhttps://realestateeducationidaho.com/events/zoom-commission-core-2022-4/
URL:https://realestateeducationidaho.com/events/zoom-commission-core-2022-4/
END:VEVENT
END:VCALENDAR