BEGIN:VCALENDAR
VERSION:2.0
PRODID:-//eventon.com NONSGML v1.0//EN
CALSCALE:GREGORIAN
METHOD:PUBLISH
BEGIN:VEVENT
UID:69ea69f665629
DTSTAMP:20260423T125030
DTSTART:20231129T130000Z
DTEND:20231129T170000Z
TZID:America/Denver
LOCATION:
SUMMARY:Zoom! Commission Core 2023
DESCRIPTION:Zoom Link to be sent the night before.\nhttps://realestateeducationidaho.com/events/zoom-commission-core-2023-9/
URL:https://realestateeducationidaho.com/events/zoom-commission-core-2023-9/
END:VEVENT
END:VCALENDAR