BEGIN:VCALENDAR
VERSION:2.0
PRODID:-//eventon.com NONSGML v1.0//EN
CALSCALE:GREGORIAN
METHOD:PUBLISH
BEGIN:VEVENT
UID:69ea755930e98
DTSTAMP:20260423T133905
DTSTART:20240123T090000Z
DTEND:20240123T120000Z
TZID:America/Denver
LOCATION:
SUMMARY:Real Estate in Today's Market
DESCRIPTION:E1522 Elizabeth Hume Instructor\nhttps://realestateeducationidaho.com/events/real-estate-in-todays-market-24/
URL:https://realestateeducationidaho.com/events/real-estate-in-todays-market-24/
END:VEVENT
END:VCALENDAR