BEGIN:VCALENDAR
VERSION:2.0
PRODID:-//eventon.com NONSGML v1.0//EN
CALSCALE:GREGORIAN
METHOD:PUBLISH
BEGIN:VEVENT
UID:69ea5f22e0d8f
DTSTAMP:20260423T120418
DTSTART:20240111T130000Z
DTEND:20240111T170000Z
TZID:America/Denver
LOCATION:
SUMMARY:Ethics (Fulfills your requirement for NAR)
DESCRIPTION:Know the REALTOR® Code of Ethics E1016 Ophelie Montgomery\nhttps://realestateeducationidaho.com/events/ethics-fulfills-your-requirement-for-nar/
URL:https://realestateeducationidaho.com/events/ethics-fulfills-your-requirement-for-nar/
END:VEVENT
END:VCALENDAR