BEGIN:VCALENDAR
VERSION:2.0
PRODID:-//eventon.com NONSGML v1.0//EN
CALSCALE:GREGORIAN
METHOD:PUBLISH
BEGIN:VEVENT
UID:69ea4d216d09a
DTSTAMP:20260423T104729
DTSTART:20240111T090000Z
DTEND:20240111T123000Z
TZID:America/Denver
LOCATION:
SUMMARY:Commission Core 2022
DESCRIPTION:C2022 Elizabeth Hume Instructor\nhttps://realestateeducationidaho.com/events/commission-core-2022-8/
URL:https://realestateeducationidaho.com/events/commission-core-2022-8/
END:VEVENT
END:VCALENDAR