BEGIN:VCALENDAR
VERSION:2.0
PRODID:-//eventon.com NONSGML v1.0//EN
CALSCALE:GREGORIAN
METHOD:PUBLISH
BEGIN:VEVENT
UID:69ea5f214a94a
DTSTAMP:20260423T120417
DTSTART:20240131T090000Z
DTEND:20240131T123000Z
TZID:America/Denver
LOCATION:
SUMMARY:ZOOM!!!!  Commission Core 2022
DESCRIPTION:C 2022 Elizabeth Hume\nhttps://realestateeducationidaho.com/events/zoom-commission-core-2022-6/
URL:https://realestateeducationidaho.com/events/zoom-commission-core-2022-6/
END:VEVENT
END:VCALENDAR