BEGIN:VCALENDAR
VERSION:2.0
PRODID:-//eventon.com NONSGML v1.0//EN
CALSCALE:GREGORIAN
METHOD:PUBLISH
BEGIN:VEVENT
UID:69ea4d248f459
DTSTAMP:20260423T104732
DTSTART:20240131T130000Z
DTEND:20240131T170000Z
TZID:America/Denver
LOCATION:
SUMMARY:ZOOM!!! Commission Core 2023
DESCRIPTION:C2023 Mari Sandoval\nhttps://realestateeducationidaho.com/events/commission-core-2023-10/
URL:https://realestateeducationidaho.com/events/commission-core-2023-10/
END:VEVENT
END:VCALENDAR