BEGIN:VCALENDAR
VERSION:2.0
PRODID:-//eventon.com NONSGML v1.0//EN
CALSCALE:GREGORIAN
METHOD:PUBLISH
BEGIN:VEVENT
UID:69ea5f21470ad
DTSTAMP:20260423T120417
DTSTART:20240125T090000Z
DTEND:20240125T153000Z
TZID:America/Denver
LOCATION:
SUMMARY:ZOOM!!!  Developing professional practices & reputable conduct
DESCRIPTION:6 Credits E1520 Instructor Elizabeth Hume\nhttps://realestateeducationidaho.com/events/zoom-developing-professional-practices-reputable-conduct/
URL:https://realestateeducationidaho.com/events/zoom-developing-professional-practices-reputable-conduct/
END:VEVENT
END:VCALENDAR