BEGIN:VCALENDAR
VERSION:2.0
PRODID:-//eventon.com NONSGML v1.0//EN
CALSCALE:GREGORIAN
METHOD:PUBLISH
BEGIN:VEVENT
UID:69ea613618e82
DTSTAMP:20260423T121310
DTSTART:20240126T090000Z
DTEND:20240126T120000Z
TZID:America/Denver
LOCATION:
SUMMARY:ZOOM!! The No Drama Transaction
DESCRIPTION:E1530 3 Credits Elizabeth Hume\nhttps://realestateeducationidaho.com/events/zoom-the-no-drama-transaction/
URL:https://realestateeducationidaho.com/events/zoom-the-no-drama-transaction/
END:VEVENT
END:VCALENDAR