BEGIN:VCALENDAR
VERSION:2.0
PRODID:-//eventon.com NONSGML v1.0//EN
CALSCALE:GREGORIAN
METHOD:PUBLISH
BEGIN:VEVENT
UID:69ea7339c90ac
DTSTAMP:20260423T133001
DTSTART:20240126T123000Z
DTEND:20240126T153000Z
TZID:America/Denver
LOCATION:
SUMMARY:ZOOM  The Impact of Management Style
DESCRIPTION:E1526 3 Credits Elizabeth Hume\nhttps://realestateeducationidaho.com/events/zoom-the-impact-of-management-style/
URL:https://realestateeducationidaho.com/events/zoom-the-impact-of-management-style/
END:VEVENT
END:VCALENDAR