BEGIN:VCALENDAR
VERSION:2.0
PRODID:-//eventon.com NONSGML v1.0//EN
CALSCALE:GREGORIAN
METHOD:PUBLISH
BEGIN:VEVENT
UID:69ea82a27a3c6
DTSTAMP:20260423T143546
DTSTART:20240208T090000Z
DTEND:20240208T120000Z
TZID:America/Denver
LOCATION:
SUMMARY:The Seller Centric Experience Steps For A Comprehensive Listing Process
DESCRIPTION:E1535 Elizabeth Hume Instructor\nhttps://realestateeducationidaho.com/events/the-seller-centric-experience-steps-for-a-comprehensive-listing-process-10/
URL:https://realestateeducationidaho.com/events/the-seller-centric-experience-steps-for-a-comprehensive-listing-process-10/
END:VEVENT
END:VCALENDAR