BEGIN:VCALENDAR
VERSION:2.0
PRODID:-//eventon.com NONSGML v1.0//EN
CALSCALE:GREGORIAN
METHOD:PUBLISH
BEGIN:VEVENT
UID:69ea4d22cd284
DTSTAMP:20260423T104730
DTSTART:20240221T090000Z
DTEND:20240221T130000Z
TZID:America/Denver
LOCATION:
SUMMARY:ZOOM!!! Commission Core 2023
DESCRIPTION:C2023 Elizabeth Hume\nhttps://realestateeducationidaho.com/events/zoom-commission-core-2023-10/
URL:https://realestateeducationidaho.com/events/zoom-commission-core-2023-10/
END:VEVENT
END:VCALENDAR