BEGIN:VCALENDAR
VERSION:2.0
PRODID:-//eventon.com NONSGML v1.0//EN
CALSCALE:GREGORIAN
METHOD:PUBLISH
BEGIN:VEVENT
UID:69ea61376d64a
DTSTAMP:20260423T121311
DTSTART:20240220T130000Z
DTEND:20240220T170000Z
TZID:America/Denver
LOCATION:
SUMMARY:Ethics (Fulfills your requirement for NAR)
DESCRIPTION:Know the REALTOR® Code of Ethics E1016 Ophelie Montgomery\nhttps://realestateeducationidaho.com/events/ethics-fulfills-your-requirement-for-nar-3/
URL:https://realestateeducationidaho.com/events/ethics-fulfills-your-requirement-for-nar-3/
END:VEVENT
END:VCALENDAR