BEGIN:VCALENDAR
VERSION:2.0
PRODID:-//eventon.com NONSGML v1.0//EN
CALSCALE:GREGORIAN
METHOD:PUBLISH
BEGIN:VEVENT
UID:69ea638898875
DTSTAMP:20260423T122304
DTSTART:20240304T090000Z
DTEND:20240304T120000Z
TZID:America/Denver
LOCATION:
SUMMARY:Class Cancelled ZOOM!!!  Planning your business strategy fundamentals  ZOOM!!! Class Cancelled
DESCRIPTION:Elizabeth Hume E1521\nhttps://realestateeducationidaho.com/events/zoom-planning-your-business-strategy-fundamentals-zoom/
URL:https://realestateeducationidaho.com/events/zoom-planning-your-business-strategy-fundamentals-zoom/
END:VEVENT
END:VCALENDAR