BEGIN:VCALENDAR
VERSION:2.0
PRODID:-//eventon.com NONSGML v1.0//EN
CALSCALE:GREGORIAN
METHOD:PUBLISH
BEGIN:VEVENT
UID:69ea7339e23d7
DTSTAMP:20260423T133001
DTSTART:20240304T123000Z
DTEND:20240304T163000Z
TZID:America/Denver
LOCATION:
SUMMARY:ZOOM!!!!  Skills for Success in Any Market  ZOOM!!
DESCRIPTION:E1657 Elizabeth Hume\nhttps://realestateeducationidaho.com/events/skills-for-success-in-any-market/
URL:https://realestateeducationidaho.com/events/skills-for-success-in-any-market/
END:VEVENT
END:VCALENDAR