BEGIN:VCALENDAR
VERSION:2.0
PRODID:-//eventon.com NONSGML v1.0//EN
CALSCALE:GREGORIAN
METHOD:PUBLISH
BEGIN:VEVENT
UID:69ea7559dbb27
DTSTAMP:20260423T133905
DTSTART:20240305T090000Z
DTEND:20240305T120000Z
TZID:America/Denver
LOCATION:
SUMMARY:ZOOM!!  The No Drama Transaction  ZOOM!!!
DESCRIPTION:E1530 Elizabeth Hume\nhttps://realestateeducationidaho.com/events/zoom-the-no-drama-transaction-zoom/
URL:https://realestateeducationidaho.com/events/zoom-the-no-drama-transaction-zoom/
END:VEVENT
END:VCALENDAR