BEGIN:VCALENDAR
VERSION:2.0
PRODID:-//eventon.com NONSGML v1.0//EN
CALSCALE:GREGORIAN
METHOD:PUBLISH
BEGIN:VEVENT
UID:69ea6136ec2c9
DTSTAMP:20260423T121310
DTSTART:20240326T130000Z
DTEND:20240326T170000Z
TZID:America/Denver
LOCATION:
SUMMARY:Ethics (Fulfills your requirement for NAR)
DESCRIPTION:\nhttps://realestateeducationidaho.com/events/ethics-fulfills-your-requirement-for-nar-4/
URL:https://realestateeducationidaho.com/events/ethics-fulfills-your-requirement-for-nar-4/
END:VEVENT
END:VCALENDAR