BEGIN:VCALENDAR
VERSION:2.0
PRODID:-//eventon.com NONSGML v1.0//EN
CALSCALE:GREGORIAN
METHOD:PUBLISH
BEGIN:VEVENT
UID:69ea4d2253b8b
DTSTAMP:20260423T104730
DTSTART:20240314T130000Z
DTEND:20240314T170000Z
TZID:America/Denver
LOCATION:
SUMMARY:Commission Core 2023
DESCRIPTION:C2023 Mari Sandoval Instructor\nhttps://realestateeducationidaho.com/events/commission-core-2023-15/
URL:https://realestateeducationidaho.com/events/commission-core-2023-15/
END:VEVENT
END:VCALENDAR