BEGIN:VCALENDAR
VERSION:2.0
PRODID:-//eventon.com NONSGML v1.0//EN
CALSCALE:GREGORIAN
METHOD:PUBLISH
BEGIN:VEVENT
UID:69ea755ad0c14
DTSTAMP:20260423T133906
DTSTART:20240314T090000Z
DTEND:20240314T120000Z
TZID:America/Denver
LOCATION:
SUMMARY:Real Estate in Today's Market
DESCRIPTION:E1522 Celeste Blackburn instructor\nhttps://realestateeducationidaho.com/events/real-estate-in-todays-market-25/
URL:https://realestateeducationidaho.com/events/real-estate-in-todays-market-25/
END:VEVENT
END:VCALENDAR