BEGIN:VCALENDAR
VERSION:2.0
PRODID:-//eventon.com NONSGML v1.0//EN
CALSCALE:GREGORIAN
METHOD:PUBLISH
BEGIN:VEVENT
UID:69ea7554967ae
DTSTAMP:20260423T133900
DTSTART:20240326T090000Z
DTEND:20240326T120000Z
TZID:America/Denver
LOCATION:
SUMMARY:ZOOM!!  Let's Get Real Risk Reduction by Minimizing Agent Mistakes ZOOM!!!
DESCRIPTION:E1523 Elizabeth Hume\nhttps://realestateeducationidaho.com/events/zoom-lets-get-real-risk-reduction-by-minimizing-agent-mistakes-zoom/
URL:https://realestateeducationidaho.com/events/zoom-lets-get-real-risk-reduction-by-minimizing-agent-mistakes-zoom/
END:VEVENT
END:VCALENDAR