BEGIN:VCALENDAR
VERSION:2.0
PRODID:-//eventon.com NONSGML v1.0//EN
CALSCALE:GREGORIAN
METHOD:PUBLISH
BEGIN:VEVENT
UID:69ea755a20801
DTSTAMP:20260423T133906
DTSTART:20240327T130000Z
DTEND:20240327T163000Z
TZID:America/Denver
LOCATION:
SUMMARY:ZOOM!!  Commission Core 2022 ZOOM!!!
DESCRIPTION:C 2022 Elizabeth Hume\nhttps://realestateeducationidaho.com/events/zoom-commission-core-2022-zoom/
URL:https://realestateeducationidaho.com/events/zoom-commission-core-2022-zoom/
END:VEVENT
END:VCALENDAR